BEGIN:VCALENDAR
VERSION:2.0
PRODID:-//wp-events-plugin.com//7.2.3.1//EN
BEGIN:VEVENT
UID:12@bumthang.gov.bt
DTSTART:20250221T090000Z
DTEND:20250221T150000Z
DTSTAMP:20250318T061744Z
URL:https://bumthang.gov.bt/events/his-majestys-45th-birth-anniversary/
SUMMARY:His Majesty's 45th Birth Anniversary
DESCRIPTION:We are eagerly looking forward to an extraordinary celebration 
 of the 45th Birth Anniversary of our beloved King! A day that will be fill
 ed with gratitude\, excitement\, and a collective vision for a brighter fu
 ture for Bhutan. The celebrations will begin with a Marmey offering and he
 artfelt wishes for His Majesty’s long life\, honoring his remarkable lea
 dership and the positive changes he continues to bring to our nation.\nAdd
 ing to the spirit of the event\, there will be traditional dances and vibr
 ant mask performances\, uniting us in our cultural heritage and national p
 ride. But the most exciting highlight? A true symbol of progress—student
 s from 20 dzongkhags\, with the support of the Telecom and Space Division 
 team from GovTech\, will proudly conduct an experiment with a Hydro-rocket
  they built themselves! This won’t just be a rocket launch\; it will be 
 a glimpse into the future—a future where our youth are not just dreamers
 \, but creators\, innovators\, and changemakers.\nUnder His Majesty’s vi
 sionary leadership\, Bhutan continues to embrace creativity\, technology\,
  and scientific exploration\, paving the way for a sustainable and innovat
 ive future. This upcoming celebration will be more than just a gathering
 —it will be a powerful reminder that we are all part of something bigger
 \, building a nation where imagination meets innovation.\nWe can’t wait 
 to witness this incredible day unfold! A heartfelt thank you in advance to
  everyone who will make this possible. May His Majesty’s wisdom continue
  to inspire generations to come!
ATTACH;FMTTYPE=image/jpeg:https://bumthang.gov.bt/wp-content/uploads/2025/
 03/9.28.jpg
CATEGORIES:Meetings
LOCATION:Chamkhar Ground\, Bumthang\, Bhutan\, Bumthang Dzongkhag\, Chamkha
 r Ground\, Bumthang\, Bhutan
X-APPLE-STRUCTURED-LOCATION;VALUE=URI;X-ADDRESS=Bumthang Dzongkhag\, Chamkh
 ar Ground\, Bumthang\, Bhutan;X-APPLE-RADIUS=100;X-TITLE=Chamkhar Ground\,
  Bumthang\, Bhutan:geo:0,0
END:VEVENT
END:VCALENDAR